BEGIN:VCALENDAR
VERSION:2.0
PRODID:-//www.nebraskacasa.org//NONSGML kigkonsult.se iCalcreator 2.30.10//
CALSCALE:GREGORIAN
METHOD:PUBLISH
UID:585c01b4-625a-4e91-92ca-0273fd87015f
X-WR-CALDESC:Join us March 8th at the Scott Conference Center\, 6450 Pine S
 t\, Omaha\, NE 68106\n\nCocktails at 6:00 p.m.    Dinner at 7:00 p.m. \n\n
 Entertainment by Greg Eden\n\nClassical guitarist Greg Eden is an Omaha na
 tive.  He holds a Master's degree in Guitar Performance from the prestigio
 us Peabody Institute of the Johns Hopkins University in Baltimore\, Maryla
 nd.  Mr. Eden has given concerts and masterclasses throughout the US and c
 urrently serves as Professor of Guitar at Creighton University and as Inst
 ructor of Guitar at the Omaha Conservatory of Music.
X-WR-RELCALID:a1bcdf30454e79f628ca3e47b4b35114
X-WR-TIMEZONE:America/Chicago
BEGIN:VTIMEZONE
TZID:America/Chicago
BEGIN:STANDARD
TZNAME:CST
DTSTART:20131103T020000
TZOFFSETFROM:-0500
TZOFFSETTO:-0600
RDATE:20141102T020000
END:STANDARD
BEGIN:DAYLIGHT
TZNAME:CDT
DTSTART:20130310T020000
TZOFFSETFROM:-0600
TZOFFSETTO:-0500
RDATE:20140309T020000
RDATE:20150308T020000
END:DAYLIGHT
END:VTIMEZONE
BEGIN:VEVENT
UID:3fe43b68-cc7f-47b3-ab47-c8d90c9104f8
DTSTAMP:20260420T115151Z
DESCRIPTION:Join us March 8th at the Scott Conference Center\, 6450 Pine St
 \, Omaha\, NE 68106\n\nCocktails at 6:00 p.m.    Dinner at 7:00 p.m. \n\nE
 ntertainment by Greg Eden\n\nClassical guitarist Greg Eden is an Omaha nat
 ive.  He holds a Master's degree in Guitar Performance from the prestigiou
 s Peabody Institute of the Johns Hopkins University in Baltimore\, Marylan
 d.  Mr. Eden has given concerts and masterclasses throughout the US and cu
 rrently serves as Professor of Guitar at Creighton University and as Instr
 uctor of Guitar at the Omaha Conservatory of Music.
DTSTART;TZID=America/Chicago:20140308T180000
DTEND;TZID=America/Chicago:20140308T220000
LOCATION:Scott Conference Center
SUMMARY:CASAblanca CASA Gala
END:VEVENT
END:VCALENDAR
