BEGIN:VCALENDAR
VERSION:2.0
PRODID:-//www.nebraskacasa.org//NONSGML kigkonsult.se iCalcreator 2.30.10//
CALSCALE:GREGORIAN
METHOD:PUBLISH
UID:90ec980b-f94a-42d9-b6be-dfcd6998f54d
X-WR-CALDESC:The Foster Care Review Office is partnering with CASA\, NFAPA\
 , DHHS\, and numerous other agencies and local community partnerships acro
 ss the state in an effort to be collaborative in our approach to training 
 this fall.  Registration is required. \n\n*   $15 Registration Fee for CAS
 A Volunteers to attend all day.  $10 half-day.\n\n**  CEU’s will be availa
 ble for Social Work\, Nurses and Mental Health Practitioners and MCLEs for
  Attorneys.\n **  If you have written resources to share\, please bring th
 em for the resource table. \n
X-WR-RELCALID:47cefda7e6b8e011845fc74097e46a42
X-WR-TIMEZONE:America/Chicago
BEGIN:VTIMEZONE
TZID:America/Chicago
BEGIN:STANDARD
TZNAME:CST
DTSTART:20131103T020000
TZOFFSETFROM:-0500
TZOFFSETTO:-0600
RDATE:20141102T020000
RDATE:20151101T020000
END:STANDARD
BEGIN:DAYLIGHT
TZNAME:CDT
DTSTART:20140309T020000
TZOFFSETFROM:-0600
TZOFFSETTO:-0500
RDATE:20150308T020000
END:DAYLIGHT
END:VTIMEZONE
BEGIN:VEVENT
UID:f4edf369-06ff-40d4-bfa8-f856afbccbfa
DTSTAMP:20260422T075411Z
DESCRIPTION:The Foster Care Review Office is partnering with CASA\, NFAPA\,
  DHHS\, and numerous other agencies and local community partnerships acros
 s the state in an effort to be collaborative in our approach to training t
 his fall.  Registration is required. \n\n*   $15 Registration Fee for CASA
  Volunteers to attend all day.  $10 half-day.\n\n**  CEU’s will be availab
 le for Social Work\, Nurses and Mental Health Practitioners and MCLEs for 
 Attorneys.\n **  If you have written resources to share\, please bring the
 m for the resource table. \n
DTSTART;TZID=America/Chicago:20140828T090000
DTEND;TZID=America/Chicago:20140828T170000
LOCATION:CASA for Douglas County\, 2412 St. Mary’s Ave.\, Omaha
SUMMARY:Omaha Child Advocate Training
END:VEVENT
END:VCALENDAR
