BEGIN:VCALENDAR
VERSION:2.0
PRODID:-//www.nebraskacasa.org//NONSGML kigkonsult.se iCalcreator 2.30.10//
CALSCALE:GREGORIAN
METHOD:PUBLISH
UID:99091e99-6b8f-4505-9f6b-90f6460280e6
X-WR-CALDESC:Meeting the Needs of Waiting Children—Assist prospective adopt
 ive parents in focusing on the needs of children awaiting adoption. Explor
 e the issues of separation\, loss\, grief and attachment. Plus the unique 
 issues related to parenting a child who has been sexually abused.\n\nExplo
 ring Adoption Issues—Identify supports within their family and introduce t
 hem to common issues that all adoptive families face. Help develop strateg
 ies for dealing with these issues\; explore crisis periods in adoption\; e
 xplore their own strengths\, needs and challenges as they consider adoptio
 n.\n\nMaking the Commitment—Assist prospective adoptive parents in conside
 ring resources they may need\, what they need to know\, what they need to 
 do\, and what they need to explore about themselves as they consider adopt
 ing a particular child or children.
X-WR-RELCALID:4ce1ae9e7f19c82094786378ddbd258d
X-WR-TIMEZONE:America/Chicago
BEGIN:VTIMEZONE
TZID:America/Chicago
BEGIN:STANDARD
TZNAME:CST
DTSTART:20141102T020000
TZOFFSETFROM:-0500
TZOFFSETTO:-0600
RDATE:20151101T020000
RDATE:20161106T020000
END:STANDARD
BEGIN:DAYLIGHT
TZNAME:CDT
DTSTART:20150308T020000
TZOFFSETFROM:-0600
TZOFFSETTO:-0500
RDATE:20160313T020000
END:DAYLIGHT
END:VTIMEZONE
BEGIN:VEVENT
UID:9ea593d9-8c81-4df1-8b07-f787ae8917dd
DTSTAMP:20260421T084948Z
DESCRIPTION:Meeting the Needs of Waiting Children—Assist prospective adopti
 ve parents in focusing on the needs of children awaiting adoption. Explore
  the issues of separation\, loss\, grief and attachment. Plus the unique i
 ssues related to parenting a child who has been sexually abused.\n\nExplor
 ing Adoption Issues—Identify supports within their family and introduce th
 em to common issues that all adoptive families face. Help develop strategi
 es for dealing with these issues\; explore crisis periods in adoption\; ex
 plore their own strengths\, needs and challenges as they consider adoption
 .\n\nMaking the Commitment—Assist prospective adoptive parents in consider
 ing resources they may need\, what they need to know\, what they need to d
 o\, and what they need to explore about themselves as they consider adopti
 ng a particular child or children.
DTSTART;TZID=America/Chicago:20150815T080000
DTEND;TZID=America/Chicago:20150815T173000
LOCATION:North Platte Fire Station\, 715 S. Jeffers\, North Platte\, NE
SUMMARY:Making the Committment To Adopt
END:VEVENT
END:VCALENDAR
