BEGIN:VCALENDAR
VERSION:2.0
PRODID:-//www.nebraskacasa.org//NONSGML kigkonsult.se iCalcreator 2.30.10//
CALSCALE:GREGORIAN
METHOD:PUBLISH
UID:8a040521-adec-4590-a4f9-be5f54760794
X-WR-CALDESC:This training is designed for CASA staff and experienced volun
 teers to learn the knowledge and skills necessary to provide new volunteer
  training.  Days 1 and 2 will focus on the learning components of National
  CASA Association's new volunteer curriculum.  Day 3 will provide the reso
 urces to hold Fostering Futures training at your local program for staff w
 ho have attending Fostering Futures training previously. \nParticipants wi
 ll be required to complete 2 - 3 hours of on-line learning prior to attend
 ing training.
X-WR-RELCALID:e53b958baa9d2d059a5d040c688d86df
X-WR-TIMEZONE:America/Chicago
BEGIN:VTIMEZONE
TZID:America/Chicago
BEGIN:STANDARD
TZNAME:CST
DTSTART:20151101T020000
TZOFFSETFROM:-0500
TZOFFSETTO:-0600
RDATE:20161106T020000
END:STANDARD
BEGIN:DAYLIGHT
TZNAME:CDT
DTSTART:20150308T020000
TZOFFSETFROM:-0600
TZOFFSETTO:-0500
RDATE:20160313T020000
RDATE:20170312T020000
END:DAYLIGHT
END:VTIMEZONE
BEGIN:VEVENT
UID:c8e5b6e1-cd8a-4298-bab6-0e25fa98e630
DTSTAMP:20260419T182606Z
DESCRIPTION:This training is designed for CASA staff and experienced volunt
 eers to learn the knowledge and skills necessary to provide new volunteer 
 training.  Days 1 and 2 will focus on the learning components of National 
 CASA Association's new volunteer curriculum.  Day 3 will provide the resou
 rces to hold Fostering Futures training at your local program for staff wh
 o have attending Fostering Futures training previously. \nParticipants wil
 l be required to complete 2 - 3 hours of on-line learning prior to attendi
 ng training.
DTSTART;TZID=America/Chicago:20151118T100000
DTEND;TZID=America/Chicago:20151120T120000
LOCATION:Opportunity Center\, 1501 Plumcreek Parkway in Lexington
SUMMARY:Facilitator Training
END:VEVENT
END:VCALENDAR
