BEGIN:VCALENDAR
VERSION:2.0
PRODID:-//www.nebraskacasa.org//NONSGML kigkonsult.se iCalcreator 2.30.10//
CALSCALE:GREGORIAN
METHOD:PUBLISH
UID:37f18849-7da6-4060-b4c1-d8bc48520ce4
X-WR-CALDESC:Fillmore County CASA\ncordially invites you to attend the\nLIG
 HT OF HOPE\nBenefit breakfast\n\n7-7:30 Coffee and networking\n7:30-8:30 B
 reakfast and program\nSpecial guest speaker:\nLt. Governor Mike Foley\nCom
 e and enjoy a free hot breakfast. Donations are encouraged but there is no
  obligation.\nRSVP 402-759-4975
X-WR-RELCALID:39afe89cd2069276e737db15e9d56ca1
X-WR-TIMEZONE:America/Chicago
BEGIN:VTIMEZONE
TZID:America/Chicago
BEGIN:STANDARD
TZNAME:CST
DTSTART:20151101T020000
TZOFFSETFROM:-0500
TZOFFSETTO:-0600
RDATE:20161106T020000
END:STANDARD
BEGIN:DAYLIGHT
TZNAME:CDT
DTSTART:20160313T020000
TZOFFSETFROM:-0600
TZOFFSETTO:-0500
RDATE:20170312T020000
END:DAYLIGHT
END:VTIMEZONE
BEGIN:VEVENT
UID:031b7575-567e-4ed4-b25f-78e8bbf1bee7
DTSTAMP:20260424T184015Z
DESCRIPTION:Fillmore County CASA\ncordially invites you to attend the\nLIGH
 T OF HOPE\nBenefit breakfast\n\n7-7:30 Coffee and networking\n7:30-8:30 Br
 eakfast and program\nSpecial guest speaker:\nLt. Governor Mike Foley\nCome
  and enjoy a free hot breakfast. Donations are encouraged but there is no 
 obligation.\nRSVP 402-759-4975
DTSTART;TZID=America/Chicago:20160427T070000
DTEND;TZID=America/Chicago:20160427T083000
LOCATION:Fussell Fellowship Hall Methodist Church\, 942 H Street\, Geneva\,
  NE
SUMMARY:Light of Hope Breakfast Benefit
END:VEVENT
END:VCALENDAR
