BEGIN:VCALENDAR
VERSION:2.0
PRODID:-//www.nebraskacasa.org//NONSGML kigkonsult.se iCalcreator 2.30.10//
CALSCALE:GREGORIAN
METHOD:PUBLISH
UID:15d05cb8-011f-4b64-9de0-4bc023271cff
X-WR-CALDESC:CASA volunteers and staff in Nebraska welcome State Senators a
 nd their staff to join us for an evening to learn about Court Appointed Sp
 ecial Advocacy in our state. Join us for great food and drinks!
X-WR-RELCALID:97d5706109e81e20205e7419ed85542e
X-WR-TIMEZONE:America/Chicago
BEGIN:VTIMEZONE
TZID:America/Chicago
BEGIN:STANDARD
TZNAME:CST
DTSTART:20241103T020000
TZOFFSETFROM:-0500
TZOFFSETTO:-0600
RDATE:20251102T020000
END:STANDARD
BEGIN:DAYLIGHT
TZNAME:CDT
DTSTART:20240310T020000
TZOFFSETFROM:-0600
TZOFFSETTO:-0500
RDATE:20250309T020000
RDATE:20260308T020000
END:DAYLIGHT
END:VTIMEZONE
BEGIN:VEVENT
UID:68f679fb-b164-4e71-ad0f-91b152124008
DTSTAMP:20260423T100640Z
DESCRIPTION:CASA volunteers and staff in Nebraska welcome State Senators an
 d their staff to join us for an evening to learn about Court Appointed Spe
 cial Advocacy in our state. Join us for great food and drinks!
DTSTART;TZID=America/Chicago:20250212T163000
DTEND;TZID=America/Chicago:20250212T183000
LOCATION:Billy's Restaurant\, 1301 H Street\, Lincoln\, NE 68508 US
SUMMARY:Nebraska CASA Legislative Reception
END:VEVENT
END:VCALENDAR
