BEGIN:VCALENDAR
VERSION:2.0
PRODID:-//www.nebraskacasa.org//NONSGML kigkonsult.se iCalcreator 2.30.10//
CALSCALE:GREGORIAN
METHOD:PUBLISH
UID:e380f1d3-cd4b-4b89-b28e-dacf8ba118ee
X-WR-CALDESC:
X-WR-RELCALID:e5f5748ac95b680db9189205364cf1d0
X-WR-TIMEZONE:America/Chicago
BEGIN:VTIMEZONE
TZID:America/Chicago
BEGIN:STANDARD
TZNAME:CST
DTSTART:20241103T020000
TZOFFSETFROM:-0500
TZOFFSETTO:-0600
RDATE:20251102T020000
END:STANDARD
BEGIN:DAYLIGHT
TZNAME:CDT
DTSTART:20250309T020000
TZOFFSETFROM:-0600
TZOFFSETTO:-0500
RDATE:20260308T020000
END:DAYLIGHT
END:VTIMEZONE
BEGIN:VEVENT
UID:3b8d472f-75c6-44e0-98fc-b44395665183
DTSTAMP:20260423T064550Z
DESCRIPTION:
DTSTART;TZID=America/Chicago:20250411T180000
DTEND;TZID=America/Chicago:20250411T230000
LOCATION:Scottish Rite Ballroom\, 332 Centennial Mall South\, Lincoln\, NE 
 68506 US
SUMMARY:CASAblanca Gala
END:VEVENT
END:VCALENDAR
