BEGIN:VCALENDAR
VERSION:2.0
PRODID:-//www.nebraskacasa.org//NONSGML kigkonsult.se iCalcreator 2.30.10//
CALSCALE:GREGORIAN
METHOD:PUBLISH
UID:5ae5c6c0-07f5-4179-b999-996c4bba7df8
X-WR-CALDESC:
X-WR-RELCALID:866e50f8fc651cd3f07687925f18cce5
X-WR-TIMEZONE:America/Chicago
BEGIN:VTIMEZONE
TZID:America/Chicago
BEGIN:STANDARD
TZNAME:CST
DTSTART:20241103T020000
TZOFFSETFROM:-0500
TZOFFSETTO:-0600
RDATE:20251102T020000
END:STANDARD
BEGIN:DAYLIGHT
TZNAME:CDT
DTSTART:20250309T020000
TZOFFSETFROM:-0600
TZOFFSETTO:-0500
RDATE:20260308T020000
END:DAYLIGHT
END:VTIMEZONE
BEGIN:VEVENT
UID:1c7aa868-231b-459d-a484-ebfae6c839dc
DTSTAMP:20260423T064417Z
DESCRIPTION:
DTSTART;TZID=America/Chicago:20250417T180000
DTEND;TZID=America/Chicago:20250417T200000
LOCATION:
SUMMARY:NE CASA Board Meeting
END:VEVENT
END:VCALENDAR
