BEGIN:VCALENDAR
VERSION:2.0
PRODID:-//www.nebraskacasa.org//NONSGML kigkonsult.se iCalcreator 2.30.10//
CALSCALE:GREGORIAN
METHOD:PUBLISH
UID:96995c35-ebf2-44a4-80f7-fdf7277446f5
X-WR-CALDESC:
X-WR-RELCALID:7e3b2e5d62a151ac1e6263f49aa28395
X-WR-TIMEZONE:America/Chicago
BEGIN:VTIMEZONE
TZID:America/Chicago
BEGIN:STANDARD
TZNAME:CST
DTSTART:20241103T020000
TZOFFSETFROM:-0500
TZOFFSETTO:-0600
RDATE:20251102T020000
RDATE:20261101T020000
END:STANDARD
BEGIN:DAYLIGHT
TZNAME:CDT
DTSTART:20250309T020000
TZOFFSETFROM:-0600
TZOFFSETTO:-0500
RDATE:20260308T020000
END:DAYLIGHT
END:VTIMEZONE
BEGIN:VEVENT
UID:6171bbc4-33c1-47b3-b52f-75c49374f38e
DTSTAMP:20260423T000848Z
DESCRIPTION:
DTSTART;TZID=America/Chicago:20250822T173000
DTEND;TZID=America/Chicago:20250822T203000
LOCATION:Younes Conference Center South\, Kearney\, NE 68506 US
SUMMARY:Nebraska CASA Conference Reception
END:VEVENT
END:VCALENDAR
