BEGIN:VCALENDAR
VERSION:2.0
PRODID:-//www.nebraskacasa.org//NONSGML kigkonsult.se iCalcreator 2.30.10//
CALSCALE:GREGORIAN
METHOD:PUBLISH
UID:231e676d-f9ea-48af-90b5-8aa2b6429271
X-WR-CALDESC:
X-WR-RELCALID:49ae9978cc96e71f5b15f5e638e2d34b
X-WR-TIMEZONE:America/Chicago
BEGIN:VTIMEZONE
TZID:America/Chicago
BEGIN:STANDARD
TZNAME:CST
DTSTART:20241103T020000
TZOFFSETFROM:-0500
TZOFFSETTO:-0600
RDATE:20251102T020000
RDATE:20261101T020000
END:STANDARD
BEGIN:DAYLIGHT
TZNAME:CDT
DTSTART:20250309T020000
TZOFFSETFROM:-0600
TZOFFSETTO:-0500
RDATE:20260308T020000
END:DAYLIGHT
END:VTIMEZONE
BEGIN:VEVENT
UID:0990e8b9-12ab-4490-994f-77aaed2c1f3b
DTSTAMP:20260423T000446Z
DESCRIPTION:
DTSTART;TZID=America/Chicago:20250823T083000
DTEND;TZID=America/Chicago:20250823T163000
LOCATION:Younes Conference Center South\, 416 West Talmadge Road\, Kearney\
 , NE 68506 US
SUMMARY:Nebraska CASA Annual Conference
END:VEVENT
END:VCALENDAR
