BEGIN:VCALENDAR
VERSION:2.0
PRODID:-//www.nebraskacasa.org//NONSGML kigkonsult.se iCalcreator 2.30.10//
CALSCALE:GREGORIAN
METHOD:PUBLISH
UID:dc67c5a2-ffd3-4b72-8951-a7a12b96e19e
X-WR-CALDESC:
X-WR-RELCALID:2aaa74a431aeb634c3412cccabda25a6
X-WR-TIMEZONE:America/Chicago
BEGIN:VTIMEZONE
TZID:America/Chicago
BEGIN:STANDARD
TZNAME:CST
DTSTART:20241103T020000
TZOFFSETFROM:-0500
TZOFFSETTO:-0600
RDATE:20251102T020000
RDATE:20261101T020000
END:STANDARD
BEGIN:DAYLIGHT
TZNAME:CDT
DTSTART:20250309T020000
TZOFFSETFROM:-0600
TZOFFSETTO:-0500
RDATE:20260308T020000
RDATE:20270314T020000
END:DAYLIGHT
END:VTIMEZONE
BEGIN:VEVENT
UID:cfc8bde2-1450-4b9f-b402-58f5555af9f8
DTSTAMP:20260422T225034Z
DESCRIPTION:
DTSTART;TZID=America/Chicago:20250915T000000
DTEND;TZID=America/Chicago:20250924T220000
LOCATION:https://www.nebraskacasa.org/see_what_we_do/chalk-art-competition.
 html
SUMMARY:Chalk it Up for CASA Art Contest
END:VEVENT
END:VCALENDAR
